

BEGIN:VCALENDAR
VERSION:2.0
X-WR-CALNAME: Upcoming shows
PRODID:GIGPRESS 2.0 WORDPRESS PLUGIN
CALSCALE:GREGORIAN
X-WR-TIMEZONE:Etc/GMT
METHOD:PUBLISH
BEGIN:VTIMEZONE
TZID:GMT
BEGIN:STANDARD
DTSTART:20071028T010000
TZOFFSETTO:+0000
TZOFFSETFROM:+0000
END:STANDARD
END:VTIMEZONE
BEGIN:VEVENT
SUMMARY:Lou Wamp at Battle Below the Clouds
DESCRIPTION:Notes: with the Bluetastics 
LOCATION:Battle Below the Clouds\, Ruby Falls\, Chattanooga\, US
UID:20260425T173000Z-1065-lynnwamp@gmail.com
URL:https://www.louwamp.com
DTSTART;VALUE=DATE-TIME;TZID=GMT:20260425T173000Z
DTEND;VALUE=DATE-TIME;TZID=GMT:20260425T173000Z
DTSTAMP:20260423T031601Z
END:VEVENT
BEGIN:VEVENT
SUMMARY:Lou Wamp at Chattanooga Market
DESCRIPTION:Notes: with The High Stuarts 
LOCATION:Chattanooga Market\, Chattanooga TN\, US
UID:20260426T160000Z-1066-lynnwamp@gmail.com
URL:https://www.louwamp.com
DTSTART;VALUE=DATE-TIME;TZID=GMT:20260426T160000Z
DTEND;VALUE=DATE-TIME;TZID=GMT:20260426T160000Z
DTSTAMP:20260423T031601Z
END:VEVENT
BEGIN:VEVENT
SUMMARY:Lou Wamp at Boxcar Pinion B/G Festival
DESCRIPTION:Notes: with The High Stuarts 
LOCATION:Boxcar Pinion B/G Festival\, Menlo\, US
UID:20260501T210000Z-1079-lynnwamp@gmail.com
URL:https://www.louwamp.com
DTSTART;VALUE=DATE-TIME;TZID=GMT:20260501T210000Z
DTEND;VALUE=DATE-TIME;TZID=GMT:20260501T210000Z
DTSTAMP:20260423T031601Z
END:VEVENT
BEGIN:VEVENT
SUMMARY:Lou Wamp at The Woodshop
DESCRIPTION:Notes: with The High Stuarts 
LOCATION:The Woodshop\, St. Elmo Ave\, Chattanooga\, US
UID:20260530T230000Z-1070-lynnwamp@gmail.com
URL:https://www.louwamp.com
DTSTART;VALUE=DATE-TIME;TZID=GMT:20260530T230000Z
DTEND;VALUE=DATE-TIME;TZID=GMT:20260530T230000Z
DTSTAMP:20260423T031601Z
END:VEVENT
BEGIN:VEVENT
SUMMARY:Lou Wamp at Nightfall Concert Series
DESCRIPTION:Notes: with High Stuarts opening for Wyatt Ellis 
LOCATION:Nightfall Concert Series\, Market and MLK\, Chattanooga\, US
UID:20260605T230000Z-1081-lynnwamp@gmail.com
URL:https://www.louwamp.com
DTSTART;VALUE=DATE-TIME;TZID=GMT:20260605T230000Z
DTEND;VALUE=DATE-TIME;TZID=GMT:20260605T230000Z
DTSTAMP:20260423T031601Z
END:VEVENT
BEGIN:VEVENT
SUMMARY:Lou Wamp at Private Event
DESCRIPTION:Notes: with the High Stuarts 
LOCATION:Private Event\, Signal Mtn\, US
UID:20260613T220000Z-1082-lynnwamp@gmail.com
URL:https://www.louwamp.com
DTSTART;VALUE=DATE-TIME;TZID=GMT:20260613T220000Z
DTEND;VALUE=DATE-TIME;TZID=GMT:20260613T220000Z
DTSTAMP:20260423T031601Z
END:VEVENT
BEGIN:VEVENT
SUMMARY:Lou Wamp at TBD
DESCRIPTION:
LOCATION:TBD\, Chattanooga\, US
UID:20260704T150000Z-1069-lynnwamp@gmail.com
URL:https://www.louwamp.com
DTSTART;VALUE=DATE-TIME;TZID=GMT:20260704T150000Z
DTEND;VALUE=DATE-TIME;TZID=GMT:20260704T150000Z
DTSTAMP:20260423T031601Z
END:VEVENT
BEGIN:VEVENT
SUMMARY:Lou Wamp at Brew N Que at the Zoo
DESCRIPTION:Notes: with The Bluetastics 
LOCATION:Brew N Que at the Zoo\, Chattanooga Zoo at Warner Park\, Holtzclaw Ave\, Chattanooga\, US
UID:20260711T220000Z-1067-lynnwamp@gmail.com
URL:https://www.louwamp.com
DTSTART;VALUE=DATE-TIME;TZID=GMT:20260711T220000Z
DTEND;VALUE=DATE-TIME;TZID=GMT:20260711T220000Z
DTSTAMP:20260423T031601Z
END:VEVENT
BEGIN:VEVENT
SUMMARY:Lou Wamp at TBD festival
DESCRIPTION:Notes: Lupi's Farm  DF BJ HS 
LOCATION:TBD festival\, Macon\, GA\, US
UID:20260815T190000Z-1072-lynnwamp@gmail.com
URL:https://www.louwamp.com
DTSTART;VALUE=DATE-TIME;TZID=GMT:20260815T190000Z
DTEND;VALUE=DATE-TIME;TZID=GMT:20260815T190000Z
DTSTAMP:20260423T031601Z
END:VEVENT
BEGIN:VEVENT
SUMMARY:Lou Wamp at TBD
DESCRIPTION:Notes: w High Stuarts 
LOCATION:TBD\, Chattanooga\, US
UID:20261024T230000Z-1073-lynnwamp@gmail.com
URL:https://www.louwamp.com
DTSTART;VALUE=DATE-TIME;TZID=GMT:20261024T230000Z
DTEND;VALUE=DATE-TIME;TZID=GMT:20261024T230000Z
DTSTAMP:20260423T031601Z
END:VEVENT
END:VCALENDAR